BEGIN:VCALENDAR
VERSION:2.0
PRODID:icalendar-ruby
CALSCALE:GREGORIAN
BEGIN:VEVENT
DTSTAMP:20260424T101758Z
UID:event-occurrence-6dfe5bd9-8d4d-4496-924b-ccb18964a5ad-event-db37b259-d9
 b4-43c1-ad7d-07287440fe63@termine-e
DTSTART:20260531T070000
DTEND:20260531T000000
CLASS:PUBLIC
DESCRIPTION:Die Kirchengemeinde hat ein eigenes Team für die Aktion Stadtr
 adeln. Alle sind herzlich willkommen\, jeder Kilometer zählt!
LOCATION:Uetze
SUMMARY:Stadtradeln - ab dem 31. Mai 2026 wieder dabei!
END:VEVENT
END:VCALENDAR
