BEGIN:VCALENDAR
VERSION:2.0
PRODID:icalendar-ruby
CALSCALE:GREGORIAN
BEGIN:VEVENT
DTSTAMP:20260314T143806Z
UID:event-occurrence-cac5ea95-2e2f-4c62-a7b4-538a3a5c0b52-event-da75524f-fc
 1b-4ffe-8371-041bbdc62e56@termine-e
DTSTART:20261124T170000
DTEND:20261124T190000
CLASS:PUBLIC
DESCRIPTION:In dieser Einheit beginnen wir\, uns mit der Person Jesu zu bes
 chäftigen. Gemeinsam schauen wir einen Teil des Films Die Bibel – Jesus
  und lernen wichtige Stationen aus dem Leben Jesu kennen. Dabei entdecken 
 die Konfis\, wie Jesus gelebt hat\, welche Botschaft er den Menschen gebra
 cht hat und warum er bis heute eine zentrale Rolle im christlichen Glauben
  spielt.
LOCATION:Gemeindehaus der ev.-luth. Kirche St. Marien\, Kirchstraße 4\, 29
 339\, Wathlingen
SUMMARY:KU11: Jesus I
END:VEVENT
END:VCALENDAR
