BEGIN:VCALENDAR
VERSION:2.0
PRODID:icalendar-ruby
CALSCALE:GREGORIAN
BEGIN:VEVENT
DTSTAMP:20260421T141322Z
UID:event-occurrence-71cc1b33-69f7-40d3-8f4e-43a7a7869f70-event-d98fbb0e-7a
 cf-41b3-bbff-3025de3f7f0d@termine-e
DTSTART:20260712T100000
DTEND:20260712T000000
CLASS:PUBLIC
DESCRIPTION:6. Sonntag nach Trinitatis"Sommerkirche 2026 II": Können wir m
 it der Sonnenbrille auch in die Sonne schauen?
LOCATION:Deichkirche Carolinensiel\, Pumphusen 2\, 26409\, Wittmund
SUMMARY:"Sonnenbrille"
END:VEVENT
END:VCALENDAR
