BEGIN:VCALENDAR
VERSION:2.0
PRODID:icalendar-ruby
CALSCALE:GREGORIAN
BEGIN:VEVENT
DTSTAMP:20260327T100620Z
UID:event-occurrence-0e83e982-8328-40c1-b493-8c01a462deff-event-d9324264-57
 90-4c1b-812b-7c596351d362@termine-e
DTSTART:20260503T100000
DTEND:20260503T000000
CLASS:PUBLIC
DESCRIPTION:Pastor Marc Blessing | Matthias Flierl\, Orgel | Norddeutscher 
 Figuralchor\, Ltg. Jörg Straube
LOCATION:Marktkirche Hannover\, Hanns-Lilje-Platz 2\, 30159\, Hannover
SUMMARY:Gottesdienst: Cantate
END:VEVENT
END:VCALENDAR
