BEGIN:VCALENDAR
VERSION:2.0
PRODID:icalendar-ruby
CALSCALE:GREGORIAN
BEGIN:VEVENT
DTSTAMP:20260314T144536Z
UID:event-occurrence-bfcaad9f-72f9-4a87-b9f8-eb0f1ef02b35-event-d921116a-30
 48-41ca-bed6-be8035164934@termine-e
DTSTART:20270410T170000
DTEND:20270410T190000
CLASS:PUBLIC
DESCRIPTION:In diesem Gottesdienst feiern die Konfirmandinnen und Konfirman
 den gemeinsam mit ihren Familien und der Gemeinde das Abendmahl. Für viel
 e ist es das erste Mal\, dass sie bewusst am Abendmahl teilnehmen. Der Got
 tesdienst lädt dazu ein\, die Gemeinschaft des Glaubens zu erleben und si
 ch auf die bevorstehende Konfirmation einzustimmen.Nur für die Konfirmand
 innen und Konfirmanden\, die am ersten Termin konfirmiert werden.Hinweis:D
 ie angegebenen Uhrzeiten dienen zur Orientierung und können sich im Ei...
LOCATION:ev.-luth. Kirche St. Marien\, Kirchstraße 6\, 29339\, Wathlingen
SUMMARY:KUEXTRA: Abendmahls-Gottesdienst I
END:VEVENT
END:VCALENDAR
