BEGIN:VCALENDAR
VERSION:2.0
PRODID:icalendar-ruby
CALSCALE:GREGORIAN
BEGIN:VEVENT
DTSTAMP:20260309T092823Z
UID:event-occurrence-e44cb24b-8b5c-4841-8194-0133942c077d-event-d86b4ac9-a1
 2b-4742-a016-074cec82e676@termine-e
DTSTART:20260406T110000
DTEND:20260406T000000
CLASS:PUBLIC
LOCATION:St. Bartholomäus Kirche Dornum\, 26553\, Dornum
SUMMARY:Familien Gottesdienst in Resterhafe mit anschl. Ostereiersuchen
END:VEVENT
END:VCALENDAR
