BEGIN:VCALENDAR
VERSION:2.0
PRODID:icalendar-ruby
CALSCALE:GREGORIAN
BEGIN:VEVENT
DTSTAMP:20250722T100615Z
UID:event-occurrence-04a5529b-b8f2-4301-b5fe-aca75d81cfe1-event-d855f3c1-87
 db-4bba-8446-1872e314fd97@termine-e
DTSTART:20250727T084500
DTEND:20250727T000000
CLASS:PUBLIC
LOCATION:Christuskirche\, An der Christuskirche 4\, 38440\, Wolfsburg
SUMMARY:Sommerkirche unterwegs (mit Anmeldung)\, Fahrt nach Helmstedt zur S
 t. Christophorus-Kirche\, Abfahrt 8:45 am Haus der Kirche\, siehe https://
 www.stadtkirche-wolfsburg.de/
END:VEVENT
END:VCALENDAR
