BEGIN:VCALENDAR
VERSION:2.0
PRODID:icalendar-ruby
CALSCALE:GREGORIAN
BEGIN:VEVENT
DTSTAMP:20260419T165000Z
UID:event-occurrence-400ccffe-4e5f-4189-b34d-5e14d6d2a1a8-event-d78f32ec-11
 46-44f7-94b5-5326a5ccb1d5@termine-e
DTSTART:20260509T180000
DTEND:20260509T000000
CLASS:PUBLIC
DESCRIPTION:Herzliche Einladung zum Mitsingkonzert\, das ganz im Zeichen vo
 n Paul Gerhardt – dem „Star“ der Kirchenlieddichtung – steht. Wir 
 feiern mit einer bunten Mischung aus Musikstücken zum Zuhören\, Liedern 
 zum Mitsingen und Texten\, die uns Paul Gerhardts Leben und Wirken lebhaft
  vor Augen führen und die uns froh und mutig mit einstimmen lassen.Mitges
 taltende sind der Bläserkreis St:Michael unter der Leitung von Björn Ack
 ermann\, KMD Angelika Rau-Čulo an der Orgel und am E-Piano\, Pastor Lutz 
 Krügener ...
LOCATION:Martin-Luther-Kirche\, Martin-Luther-Straße 33\, 31137\, Hildeshe
 im
SUMMARY:Mitsingkonzert "Geh aus\, mein Herz\, und suche Freud"
END:VEVENT
END:VCALENDAR
