BEGIN:VCALENDAR
VERSION:2.0
PRODID:icalendar-ruby
CALSCALE:GREGORIAN
BEGIN:VEVENT
DTSTAMP:20260420T094629Z
UID:event-occurrence-17c9ac18-7505-4e43-8f73-efcd352f07d2-event-d78c639a-7b
 6a-44c5-b3b6-332b13685079@termine-e
DTSTART:20260830T103000
DTEND:20260830T000000
CLASS:PUBLIC
DESCRIPTION:mit Pastor Winnen und Team
LOCATION:Paulus-Kirchenzentrum\, Berliner Ring 17\, 31303\, Burgdorf
SUMMARY:Pop-Gottesdienst mit Andreas Hülsemann und Band im Paulus-Kirchenz
 entrum Burgdorf
END:VEVENT
END:VCALENDAR
