BEGIN:VCALENDAR
VERSION:2.0
PRODID:icalendar-ruby
CALSCALE:GREGORIAN
BEGIN:VEVENT
DTSTAMP:20260407T093119Z
UID:event-occurrence-3ebac5c4-0403-4c87-8514-ae6066085750-event-d7172dbd-ec
 cc-49e0-b19b-25a7a7ac1137@termine-e
DTSTART:20260524T100000
DTEND:20260524T000000
CLASS:PUBLIC
DESCRIPTION:PfingstsonntagGottesdienstLiturg. Leitung: Pastor Tolsdorf
LOCATION:Cäcilien- und Margarethenkirche Leerhafe\, Brinkerstr. 2\, 26409\
 , Wittmund
SUMMARY:Pfingstgottesdienst in Leerhafe
END:VEVENT
END:VCALENDAR
