BEGIN:VCALENDAR
VERSION:2.0
PRODID:icalendar-ruby
CALSCALE:GREGORIAN
BEGIN:VEVENT
DTSTAMP:20260319T100959Z
UID:event-occurrence-2501f7cc-ca7a-425f-8ac1-bdb61e0919f8-event-d6435b62-5d
 50-4a69-aba3-5393c4981c09@termine-e
DTSTART:20260516T200000
DTEND:20260516T000000
CLASS:PUBLIC
DESCRIPTION:Peter Schöne\, Bariton | Holger Berndsen\, Olga Monakh\, Chris
 toph Schnackertz &amp\; Jan Philip Schulze\, KlavierIn seinem Gründungsko
 nzert widmet sich Schubertlied e.V. ganz dem Kern von Franz Schuberts Lied
 kunst.In einer Großen Schubertiade erklingen Schuberts schönste und bede
 utendste Lieder: Ständchen\, Heidenröslein\, Der Erlkönig\, Lied im Gr
 ünen\, Prometheus\, Der Taucher und weitere Meisterwerke. Auch einige Üb
 erraschungen hält das Programm bereit.Ein Abend\, der Schuberts Schaffen 
 in seiner ga...
LOCATION:Marktkirche Hannover\, Hanns-Lilje-Platz 2\, 30159\, Hannover
SUMMARY:Große Schubertiade – Gründungskonzert des Schubertlied e.V.
END:VEVENT
END:VCALENDAR
