BEGIN:VCALENDAR
VERSION:2.0
PRODID:icalendar-ruby
CALSCALE:GREGORIAN
BEGIN:VEVENT
DTSTAMP:20260423T100520Z
UID:event-occurrence-51dac3e3-8f19-4090-a004-d1be9f2ebafd-event-d5909078-c0
 b3-42a0-bd17-b20921f5fa91@termine-e
DTSTART:20260531T120000
DTEND:20260531T000000
CLASS:PUBLIC
DESCRIPTION:Kommissionsbasar für Kinderkleidung und Spielsachen\,
LOCATION:Gemeindehaus Dreifaltigkeit\, Friesenstr. 27A\, 30161\, Hannover
SUMMARY:Kita-Basar
END:VEVENT
END:VCALENDAR
