BEGIN:VCALENDAR
VERSION:2.0
PRODID:icalendar-ruby
CALSCALE:GREGORIAN
BEGIN:VEVENT
DTSTAMP:20260416T081213Z
UID:event-occurrence-b0808702-a5ab-4448-951b-09d592a33610-event-d51c7225-84
 dc-4cc2-bcd9-e0d5cddb34f1@termine-e
DTSTART:20261012T000000
DTEND:20261012T000000
CLASS:PUBLIC
DESCRIPTION:Du willst mal eine Woche mit Gleichgesinnten eine tolle Zeit er
 leben\, neue Freundschaften schließen\, Spiel und Spaß haben\, zusammen 
 singen und Andachten feiern? Du hast Lust auf Strand\, Wasser\, Wind und W
 ellen? Dann komm doch mit auf Jugendfreizeit! Wann? 12.10.-16.10.2026 Wo? 
 Koje 47\, Werder 18/19\, 23974 Boiensdorf Wer? Jugendliche von 14-18 Jahre
 n des Kirchenkreises Uelzen Kosten? 140 € p.P. Wir freuen uns auf Dich!T
 homas (Region Nord) und Andrea (Region Mitte)
LOCATION:
SUMMARY:Freizeit in den Herbstferien
END:VEVENT
END:VCALENDAR
