BEGIN:VCALENDAR
VERSION:2.0
PRODID:icalendar-ruby
CALSCALE:GREGORIAN
BEGIN:VEVENT
DTSTAMP:20260309T092723Z
UID:event-occurrence-bf668d91-0f1f-43ea-ab77-d061d84ed6ad-event-d4e853cc-73
 df-4196-ade5-ccd6c0dad559@termine-e
DTSTART:20260403T150000
DTEND:20260403T000000
CLASS:PUBLIC
LOCATION:St. Ansgari Kirche Hage\, 26524\, Hage
SUMMARY:Gottesdienst zur Todesstunde Jesu mit Abendmahl
END:VEVENT
END:VCALENDAR
