BEGIN:VCALENDAR
VERSION:2.0
PRODID:icalendar-ruby
CALSCALE:GREGORIAN
BEGIN:VEVENT
DTSTAMP:20260412T193153Z
UID:event-occurrence-188bb5d3-af96-4032-9b54-4133d22bd430-event-d4a64886-6d
 4d-45f9-b71b-38b8d64c929f@termine-e
DTSTART:20260809T103000
DTEND:20260809T000000
CLASS:PUBLIC
DESCRIPTION:Pn. FröhlichMusik: Rauterberg\, Gitarre
LOCATION:Seniorenwohnpark Friedenstal\, Im Friedensthal 46\, 31812\, Bad Py
 rmont
SUMMARY:Gottesdienst I Sommerkirche
END:VEVENT
END:VCALENDAR
