BEGIN:VCALENDAR
VERSION:2.0
PRODID:icalendar-ruby
CALSCALE:GREGORIAN
BEGIN:VEVENT
DTSTAMP:20260420T093009Z
UID:event-occurrence-42d151a5-6a85-4b78-bb47-7504c02ee935-event-d3a80196-2e
 ab-49fb-89c4-45d7e1a993a9@termine-e
DTSTART:20260607T110000
DTEND:20260607T000000
CLASS:PUBLIC
DESCRIPTION:mit dem Team der Unterrichtenden im KonfA
LOCATION:Paulus-Kirchenzentrum\, Berliner Ring 17\, 31303\, Burgdorf
SUMMARY:Begrüßungsgottesdienst der neuen Konfirmand*innen im Paulus-Kirch
 enzentrum Burgdorf
END:VEVENT
END:VCALENDAR
