BEGIN:VCALENDAR
VERSION:2.0
PRODID:icalendar-ruby
CALSCALE:GREGORIAN
BEGIN:VEVENT
DTSTAMP:20260423T160558Z
UID:event-occurrence-84be09fd-53f4-4b6e-8240-b8d16cc1b6e9-event-d3a328f4-4e
 40-4581-9ed1-4e807239d13b@termine-e
DTSTART:20260510T110000
DTEND:20260510T000000
CLASS:PUBLIC
DESCRIPTION:Am Sonntag Rogate laden wir ein zum Gottesdienst mit Pastor Hey
 den. Anschließend Kirchenkaffee. Der Weltladen ist geöffnet.
LOCATION:St. Georgs-Kirche\, Wichmannsburg
SUMMARY:Gottesdienst in Wichmannsburg
END:VEVENT
END:VCALENDAR
