BEGIN:VCALENDAR
VERSION:2.0
PRODID:icalendar-ruby
CALSCALE:GREGORIAN
BEGIN:VEVENT
DTSTAMP:20260326T092135Z
UID:event-occurrence-995cdb9b-d86b-46dd-97f2-d0e03ee627c6-event-d3a17d4c-81
 78-46f1-95f0-90913f591159@termine-e
DTSTART:20260512T150000
DTEND:20260512T000000
CLASS:PUBLIC
DESCRIPTION:Zum zweiten Mal in diesem Jahr lädt die Kirchengemeinde alle S
 eniorinnen und Senioren zu einem gemeinsamen Geburtstagskaffee und einem k
 urzweiligen Nachmittag ins Gemeindehaus ein. Am 12. Mai um 15.00 Uhr sind 
 alle eingeladen\, die im März und April Geburtstag hatten.Ein neues Team 
 Ehrenamtlicher bereitet die Nachmittage liebevoll vor. Lassen Sie sich üb
 erraschen!Bitte melden Sie sich im Gemeindebüro an!Wir freuen uns auf Sie
 .Das Geburtstagskaffee-Team und Pastorin Lore Julius
LOCATION:Gemeindehaus Horst\, Andreaestrasse 9\, 30826\, Garbsen / Horst
SUMMARY:Geburtstagskaffee
END:VEVENT
END:VCALENDAR
