BEGIN:VCALENDAR
VERSION:2.0
PRODID:icalendar-ruby
CALSCALE:GREGORIAN
BEGIN:VEVENT
DTSTAMP:20260421T134913Z
UID:event-occurrence-93098b40-ce0c-43db-acf0-c6a85ca09b8c-event-d38b5a93-66
 d7-4f7f-b559-783f98cba41b@termine-e
DTSTART:20260525T110000
DTEND:20260525T000000
CLASS:PUBLIC
LOCATION:Schlossplatz Lüchow
SUMMARY:Ökumenischer Gottesdienst mit Posaunenchor Plate – Ökumenischer
  Konvent
END:VEVENT
END:VCALENDAR
