BEGIN:VCALENDAR
VERSION:2.0
PRODID:icalendar-ruby
CALSCALE:GREGORIAN
BEGIN:VEVENT
DTSTAMP:20260415T183414Z
UID:event-occurrence-0ec5b180-9cc4-4297-a706-4a75e60753b6-event-d2b0d341-61
 20-4675-9e01-59c9a0f8e207@termine-e
DTSTART:20260501T180000
DTEND:20260501T000000
CLASS:PUBLIC
DESCRIPTION:Gottesdienst mit Tischabendmahl mit Pastor Lars Kotterba
LOCATION:Evang.-Luth. Trinitatiskirche Lingen\, Jägerstr.57\, 49808\, Ling
 en
SUMMARY:Gottesdienst mit Tischabendmahl mit Pastor Lars Kotterba
END:VEVENT
END:VCALENDAR
