BEGIN:VCALENDAR
VERSION:2.0
PRODID:icalendar-ruby
CALSCALE:GREGORIAN
BEGIN:VEVENT
DTSTAMP:20260415T182350Z
UID:event-occurrence-bf60c797-5b7f-4bc1-86a7-8b6387cae662-event-d1297383-c8
 c3-4345-ac21-e206b33f8b31@termine-e
DTSTART:20260520T170000
DTEND:20260520T200000
CLASS:PUBLIC
DESCRIPTION:Wie möchte ich leben\, wenn ich älter werde? Diese Frage stel
 len sich viele Menschen irgendwann – oft leise\, manchmal mit Sorge\, ma
 nchmal mit Neugier. Die Veranstaltung „Wohnen &amp\; Leben – Älterwer
 den nach meinem Geschmack“ setzt hier an. Am Mittwoch\, 20. Mai 2026\, v
 on 17.00 bis 20.00 Uhr\, findet im Gemeindehaus in Gyhum eine offene Veran
 staltung dazu statt.Es laden ein: Die Teams des Projekts „Lebensphase 60
 +Plus“ im Kirchenkreis Bremervörde-Zeven und des Senioren- &amp\; Pfleg
 estützpunktes ...
LOCATION:Gemeindehaus Gyhum\, Eichenstraße 2\, 27404\, Gyhum
SUMMARY:Wohnen & Leben – Älterwerden nach meinem Geschmack
END:VEVENT
END:VCALENDAR
