BEGIN:VCALENDAR
VERSION:2.0
PRODID:icalendar-ruby
CALSCALE:GREGORIAN
BEGIN:VEVENT
DTSTAMP:20260327T123643Z
UID:event-occurrence-8a528ef8-b50f-4e70-9851-d3c2efdb61a0-event-d0eb0fbf-e0
 48-40fb-8c1e-127b414bb0d7@termine-e
DTSTART:20260531T100000
DTEND:20260531T000000
CLASS:PUBLIC
DESCRIPTION:Stadtsuperintendent Rainer Müller-Brandes | Matthias Flierl\, 
 Orgel | Stuttgarter Hymnus Chorknaben | Knabenchor Hannover\, Ltg. Jörg B
 reiding
LOCATION:Marktkirche Hannover\, Hanns-Lilje-Platz 2\, 30159\, Hannover
SUMMARY:Musikalischer Festgottesdienst: Trinitatis
END:VEVENT
END:VCALENDAR
