BEGIN:VCALENDAR
VERSION:2.0
PRODID:icalendar-ruby
CALSCALE:GREGORIAN
BEGIN:VEVENT
DTSTAMP:20260420T093743Z
UID:event-occurrence-7c7674a2-ff62-47e0-b91b-67231f0fea4e-event-d0976efd-27
 80-40df-a92a-945d7ab1f4bf@termine-e
DTSTART:20260809T103000
DTEND:20260809T000000
CLASS:PUBLIC
DESCRIPTION:mit Pastorin Grote
LOCATION:Paulus-Kirchenzentrum\, Berliner Ring 17\, 31303\, Burgdorf
SUMMARY:Gottesdienst zum Israelsonntag im Paulus-Kirchenzentrum Burgdorf
END:VEVENT
END:VCALENDAR
