BEGIN:VCALENDAR
VERSION:2.0
PRODID:icalendar-ruby
CALSCALE:GREGORIAN
BEGIN:VEVENT
DTSTAMP:20260314T140925Z
UID:event-occurrence-07dfad74-e248-4893-94fd-9781a075de85-event-d046553b-e8
 45-4bbf-b556-5ec2d89d06aa@termine-e
DTSTART:20260520T000000
DTEND:20260520T000000
CLASS:PUBLIC
DESCRIPTION:15 Minuten innehalten und vom alltag zur ruhe kommen.Draußen i
 m stadtteil feiern wir die Bergfest-andachten\, jeden Monat an einem ander
 en Ort und jedes Mal in einemneuen ambiente. Immer mittwochs: 20.05.\, 17.
 06.\, 08.07.\, 19.08.Der Ort und die uhrzeit bleiben jedes Mal eine Überr
 aschung. Infosgibt es kurz vorher per Whatsapp\, sMs oder E-Mail.Bitte mel
 den sie sich dafür vorher an\, an Tel. 0170/9932729 oderelisabeth.kulus@e
 vlka.de.
LOCATION:
SUMMARY:Bergfest-Andacht mit Überraschungseffekt
END:VEVENT
BEGIN:VEVENT
DTSTAMP:20260314T140925Z
UID:event-occurrence-e0984064-19e3-4477-a577-8e1134f1f232-event-d046553b-e8
 45-4bbf-b556-5ec2d89d06aa@termine-e
DTSTART:20260617T000000
DTEND:20260617T000000
CLASS:PUBLIC
DESCRIPTION:15 Minuten innehalten und vom alltag zur ruhe kommen.Draußen i
 m stadtteil feiern wir die Bergfest-andachten\, jeden Monat an einem ander
 en Ort und jedes Mal in einemneuen ambiente. Immer mittwochs: 20.05.\, 17.
 06.\, 08.07.\, 19.08.Der Ort und die uhrzeit bleiben jedes Mal eine Überr
 aschung. Infosgibt es kurz vorher per Whatsapp\, sMs oder E-Mail.Bitte mel
 den sie sich dafür vorher an\, an Tel. 0170/9932729 oderelisabeth.kulus@e
 vlka.de.
LOCATION:
SUMMARY:Bergfest-Andacht mit Überraschungseffekt
END:VEVENT
BEGIN:VEVENT
DTSTAMP:20260314T140925Z
UID:event-occurrence-d44c60ce-d16b-4ca3-9d6e-a1396c553b9c-event-d046553b-e8
 45-4bbf-b556-5ec2d89d06aa@termine-e
DTSTART:20260819T000000
DTEND:20260819T000000
CLASS:PUBLIC
DESCRIPTION:15 Minuten innehalten und vom alltag zur ruhe kommen.Draußen i
 m stadtteil feiern wir die Bergfest-andachten\, jeden Monat an einem ander
 en Ort und jedes Mal in einemneuen ambiente. Immer mittwochs: 20.05.\, 17.
 06.\, 08.07.\, 19.08.Der Ort und die uhrzeit bleiben jedes Mal eine Überr
 aschung. Infosgibt es kurz vorher per Whatsapp\, sMs oder E-Mail.Bitte mel
 den sie sich dafür vorher an\, an Tel. 0170/9932729 oderelisabeth.kulus@e
 vlka.de.
LOCATION:
SUMMARY:Bergfest-Andacht mit Überraschungseffekt
END:VEVENT
END:VCALENDAR
