BEGIN:VCALENDAR
VERSION:2.0
PRODID:icalendar-ruby
CALSCALE:GREGORIAN
BEGIN:VEVENT
DTSTAMP:20260310T071222Z
UID:event-occurrence-38fc3c28-1290-46cd-b6ce-4fd7e6c69874-event-ceb39afe-4e
 4d-4287-94e0-aeeec732d3d9@termine-e
DTSTART:20260404T230000
DTEND:20260404T000000
CLASS:PUBLIC
LOCATION:St. Andreas Geversdorf\, An der Kirche\, 21784\, Geversdorf
SUMMARY:Osternacht mit Abendmahl in Geversdorf
END:VEVENT
END:VCALENDAR
