BEGIN:VCALENDAR
VERSION:2.0
PRODID:icalendar-ruby
CALSCALE:GREGORIAN
BEGIN:VEVENT
DTSTAMP:20260409T092749Z
UID:event-occurrence-3509ff54-3135-4cc1-a1ac-673e643f1b21-event-cdf839d9-2d
 70-4e1b-8c93-0216e34b17b6@termine-e
DTSTART:20260604T110000
DTEND:20260604T123000
CLASS:PUBLIC
DESCRIPTION:In 90 Minuten per ZOOM informiert Sie Ebba Dralle (Referat 75 i
 m Landeskirchenamt) über das Siegelrecht in der Anwendung im Pfarramtsbü
 ro. Wer darf bzw. muss WANN WAS siegeln und was geht gar nicht!
LOCATION:
SUMMARY:Impulstreffen: Siegelrecht im Pfarramtsbüro
END:VEVENT
END:VCALENDAR
