BEGIN:VCALENDAR
VERSION:2.0
PRODID:icalendar-ruby
CALSCALE:GREGORIAN
BEGIN:VEVENT
DTSTAMP:20260420T084703Z
UID:event-occurrence-97c07cc7-55ad-4d48-bec0-c71e9bddb23f-event-cd772dbd-21
 0d-4651-803c-99e7bf785bea@termine-e
DTSTART:20260425T110000
DTEND:20260425T000000
CLASS:PUBLIC
DESCRIPTION:Mit Pastorin Lara Schilde
LOCATION:Johannes-der-Täufer-Kirche Bexhövede\, Am Bekeshoop 2\, 27612\, 
 Bexhövede
SUMMARY:Konfirmation in Bexhövede
END:VEVENT
END:VCALENDAR
