BEGIN:VCALENDAR
VERSION:2.0
PRODID:icalendar-ruby
CALSCALE:GREGORIAN
BEGIN:VEVENT
DTSTAMP:20260325T124541Z
UID:event-occurrence-c4f4a098-e8f6-4b1f-afd5-1a5377c90d53-event-ccc9dc6d-c1
 53-4bb0-9ca2-fa7ae44a6e49@termine-e
DTSTART:20260623T160000
DTEND:20260623T000000
CLASS:PUBLIC
DESCRIPTION:Der Frauenkreis (70 Jahre / 75 Jahre +) findet regelmäßig am 
 4. Dienstag im Monat statt. Der Frauenkreis arbeitet meistens thematisch\,
  das heißt es gibt bei jedem Treffen ein Thema und oft auch einen Referen
 ten / eine Referentin\, die einen Impuls dazu gibt.
LOCATION:Gemeindehaus Bollwerkstraße\, Bollwerkstraße 17\, 26725\, Emden
SUMMARY:Frauenkreis
END:VEVENT
END:VCALENDAR
