BEGIN:VCALENDAR
VERSION:2.0
PRODID:icalendar-ruby
CALSCALE:GREGORIAN
BEGIN:VEVENT
DTSTAMP:20260327T122634Z
UID:event-occurrence-baa81ddc-ee9b-4b8b-914c-72b072439683-event-cb720123-df
 24-47ed-ba54-abb9499967b4@termine-e
DTSTART:20260506T130000
DTEND:20260506T000000
CLASS:PUBLIC
DESCRIPTION:30 Minuten Gebet\, geistlicher Impuls &amp\; OrgelmusikPastor M
 arc Blessing | Arne Hallmann\, Orgel
LOCATION:Marktkirche Hannover\, Hanns-Lilje-Platz 2\, 30159\, Hannover
SUMMARY:Ökumenisches Mittagsgebet
END:VEVENT
END:VCALENDAR
