BEGIN:VCALENDAR
VERSION:2.0
PRODID:icalendar-ruby
CALSCALE:GREGORIAN
BEGIN:VEVENT
DTSTAMP:20260327T102927Z
UID:event-occurrence-47458758-cb36-4ab8-90a6-674ea5581701-event-cb71d854-db
 da-431e-bdfe-4430680e7516@termine-e
DTSTART:20260524T100000
DTEND:20260524T000000
CLASS:PUBLIC
DESCRIPTION:Pfingstgottesdienst und Finissage der Ausstellung
LOCATION:St. Lamberti Hildesheim
SUMMARY:Finissage - PASSAGE Die Dinge | Das Leben Fotoausstellung von Klaus
  G. Kohn
END:VEVENT
END:VCALENDAR
