BEGIN:VCALENDAR
VERSION:2.0
PRODID:icalendar-ruby
CALSCALE:GREGORIAN
BEGIN:VEVENT
DTSTAMP:20260423T162053Z
UID:event-occurrence-9e857b48-dd88-4766-8d13-4abf55454086-event-ca6e92bb-a9
 67-4f8b-b08a-d29cdba9dece@termine-e
DTSTART:20260514T110000
DTEND:20260514T000000
CLASS:PUBLIC
DESCRIPTION:An Christi Himmelfahrt feiern wir Gottesdienst mit Pastor Mori
 é und den Posaunenchören Altenmedingen und Wichmannsburg in und rund um 
 unserer Kirche. Zu einem kleinen Nach-dem-Gottesdienst-Buffet bringe jeder
  Mensch eine Kleinigkeit und etwas Geschirr mit. Getränke sind vor Ort.
LOCATION:St. Michaelis-Kirche\, Bienenbüttel
SUMMARY:Familienfreundlicher Wandel-Gottesdienst in Bienenbüttel
END:VEVENT
END:VCALENDAR
