BEGIN:VCALENDAR
VERSION:2.0
PRODID:icalendar-ruby
CALSCALE:GREGORIAN
BEGIN:VEVENT
DTSTAMP:20231107T213823Z
UID:event-occurrence-4f15d25c-c7dc-43a2-9104-d1f63439c3bc-event-c965c501-38
 9e-4c51-b0ae-248089d195bf@termine-e
DTSTART:20231112T170000
DTEND:20231112T000000
CLASS:PUBLIC
DESCRIPTION:Kammerorchester der Neuen Philharmonie Hamburg
LOCATION:Markuskirche\, Oskar-Winter-Straße7/ Lister Platz\, 30161\, Hanno
 ver
SUMMARY:MARKUSKIRCHE: Konzert Vivaldi - Die Vier Jahreszeiten
END:VEVENT
END:VCALENDAR
