BEGIN:VCALENDAR
VERSION:2.0
PRODID:icalendar-ruby
CALSCALE:GREGORIAN
BEGIN:VEVENT
DTSTAMP:20260310T135738Z
UID:event-occurrence-a59ab3cf-9a91-4d0b-a799-c1596a90063f-event-c9326295-ff
 bd-49be-9d5a-c66339af26f0@termine-e
DTSTART:20260403T101500
DTEND:20260403T000000
CLASS:PUBLIC
DESCRIPTION:mit Lektor S. Rabenstein
LOCATION:Emmaus-Kirchengemeinde Leezdorf\, Farnweg 22\, 26529\, Leezdorf
SUMMARY:Gottesdienst zum Karfreitag
END:VEVENT
END:VCALENDAR
