BEGIN:VCALENDAR
VERSION:2.0
PRODID:icalendar-ruby
CALSCALE:GREGORIAN
BEGIN:VEVENT
DTSTAMP:20260423T183234Z
UID:event-occurrence-e074b9e9-d700-456b-b8c4-fac61350ffb6-event-c8470a51-ff
 6a-44d0-9b27-88a949cf699d@termine-e
DTSTART:20260504T170000
DTEND:20260504T000000
CLASS:PUBLIC
DESCRIPTION:Sing mit uns!
LOCATION:Bonhoeffer-Kirche\, Westhagen\, Jenaer Str. 39\, 38444\, Wolfsburg
SUMMARY:Offene Chorprobe
END:VEVENT
END:VCALENDAR
