BEGIN:VCALENDAR
VERSION:2.0
PRODID:icalendar-ruby
CALSCALE:GREGORIAN
BEGIN:VEVENT
DTSTAMP:20260224T191331Z
UID:event-occurrence-9cae6a83-b9a7-428c-8c5a-a186235fd1b9-event-c815ff87-c5
 45-457d-ba76-07909f361201@termine-e
DTSTART:20260405T110000
DTEND:20260405T000000
CLASS:PUBLIC
DESCRIPTION:Gottesdienst Pastorin Friederike Köhn und Vikarin Natalie Rich
 ter
LOCATION:Kapelle Garlstedt\, Hohe Berg 31\, 27711\, Osterholz-Scharmbeck/Ga
 rlstedt
SUMMARY:St. Willehadi Garlstedt - Gottesdienst am Ostersonntag
END:VEVENT
END:VCALENDAR
