BEGIN:VCALENDAR
VERSION:2.0
PRODID:icalendar-ruby
CALSCALE:GREGORIAN
BEGIN:VEVENT
DTSTAMP:20260409T142426Z
UID:event-occurrence-d8b5c662-22f0-4907-b4e6-34945721605f-event-c7df7cbc-36
 59-497d-b121-a8c576331e6f@termine-e
DTSTART:20260913T110000
DTEND:20260913T123000
CLASS:PUBLIC
LOCATION:
SUMMARY:Gottesdienst heaven@eleven mit Taufen
END:VEVENT
END:VCALENDAR
