BEGIN:VCALENDAR
VERSION:2.0
PRODID:icalendar-ruby
CALSCALE:GREGORIAN
BEGIN:VEVENT
DTSTAMP:20260420T094159Z
UID:event-occurrence-2ab9c05c-10a2-4ab1-91fe-162f63f5a2d5-event-c731b6a1-c0
 43-49e2-8924-42fde79ea1e7@termine-e
DTSTART:20260815T090000
DTEND:20260815T000000
CLASS:PUBLIC
DESCRIPTION:mit Pastor Freytag und Team
LOCATION:Paulus-Kirchenzentrum\, Berliner Ring 17\, 31303\, Burgdorf
SUMMARY:Einschulungsgottesdienst der Gudrun-Pausewang-Schule im Paulus-Kirc
 henzentrum
END:VEVENT
END:VCALENDAR
