BEGIN:VCALENDAR
VERSION:2.0
PRODID:icalendar-ruby
CALSCALE:GREGORIAN
BEGIN:VEVENT
DTSTAMP:20260420T074545Z
UID:event-occurrence-6a52cc84-131a-420c-b71d-d6da4df12a13-event-c6eae9e2-50
 2c-4eaa-a8ce-fa302a8581cf@termine-e
DTSTART:20260918T000000
DTEND:20260920T000000
CLASS:PUBLIC
DESCRIPTION:Save the Date!Schulungswochenende für alle\, die Teamende werd
 en wollen
LOCATION:Stephanuskirche\, Detmerode\, Detmeroder Markt 6\, 38444\, Wolfsbu
 rg
SUMMARY:Traineewochenende
END:VEVENT
END:VCALENDAR
