BEGIN:VCALENDAR
VERSION:2.0
PRODID:icalendar-ruby
CALSCALE:GREGORIAN
BEGIN:VEVENT
DTSTAMP:20260422T081628Z
UID:event-occurrence-cd4cb234-a7c6-4a9d-b79c-bd750d59f2b7-event-c6e39b52-b7
 cf-4f83-ae84-64d23b3e3e59@termine-e
DTSTART:20260517T100000
DTEND:20260517T000000
CLASS:PUBLIC
DESCRIPTION:ExaudiGottesdienstLiturg. Leitung: Lektorin Beermann
LOCATION:St. Nicolaikirche Wittmund\, Am Kirchplatz 2\, 26409\, Wittmund
SUMMARY:Gottesdienst
END:VEVENT
END:VCALENDAR
