BEGIN:VCALENDAR
VERSION:2.0
PRODID:icalendar-ruby
CALSCALE:GREGORIAN
BEGIN:VEVENT
DTSTAMP:20250828T142431Z
UID:event-occurrence-f1b99772-c7be-4c67-ba09-cb1b2388847e-event-c698fe58-0b
 fe-4413-b130-17598355ae41@termine-e
DTSTART:20251031T180000
DTEND:20251031T000000
CLASS:PUBLIC
DESCRIPTION:Wir feiern 130 Jahre Posaunenchor in Obershagen\, mit tollen Kl
 ängen\, guten Gesprächen\, mit Ihnen und Euch!
LOCATION:St. Nicolai - Kirche und Dorfzentrum\, Hauptstraße\, 31311\, Uetz
 e OT Obershagen
SUMMARY:Abendmusik in Obershagen\, anlässlich des Jubiläums unseres Posau
 nenchors
END:VEVENT
END:VCALENDAR
