BEGIN:VCALENDAR
VERSION:2.0
PRODID:icalendar-ruby
CALSCALE:GREGORIAN
BEGIN:VEVENT
DTSTAMP:20260413T065656Z
UID:event-occurrence-c45ee33b-0d28-4f19-a7f3-0eb88ba9f13c-event-c65a7c7f-0b
 5f-4eb1-8ffd-bdfc675653be@termine-e
DTSTART:20260823T103000
DTEND:20260823T000000
CLASS:PUBLIC
DESCRIPTION:Pn. WeidnerMusik:Brödling
LOCATION:St. Petri-Kirche\, Lortzingstraße 19\, 31812\, Bad Pyrmont
SUMMARY:Gottesdienst
END:VEVENT
END:VCALENDAR
