BEGIN:VCALENDAR
VERSION:2.0
PRODID:icalendar-ruby
CALSCALE:GREGORIAN
BEGIN:VEVENT
DTSTAMP:20260407T093410Z
UID:event-occurrence-73e4735a-c43b-4eb7-b94b-268ad6e513d3-event-c5e67b65-82
 3a-4e9d-aa76-d005e927500e@termine-e
DTSTART:20260524T100000
DTEND:20260524T000000
CLASS:PUBLIC
DESCRIPTION:PfingstsonntagGottesdienstLiturg. Leitung: Vikar Dr. Ziegenbein
LOCATION:Deichkirche Carolinensiel\, Pumphusen 2\, 26409\, Wittmund
SUMMARY:Pfingstgottesdienst in Carolinensiel
END:VEVENT
END:VCALENDAR
