BEGIN:VCALENDAR
VERSION:2.0
PRODID:icalendar-ruby
CALSCALE:GREGORIAN
BEGIN:VEVENT
DTSTAMP:20260328T094854Z
UID:event-occurrence-d71ab88f-7dd4-4776-b6d8-9f5bfaa5cf5f-event-c4562b16-0f
 10-40a2-9b79-4fbc8a4cdab9@termine-e
DTSTART:20260426T103000
DTEND:20260426T000000
CLASS:PUBLIC
LOCATION:Herrenhäuser Kirche\, Hegebläch 19\, 30419\, Hannover
SUMMARY:Gottesdienst
END:VEVENT
END:VCALENDAR
