BEGIN:VCALENDAR
VERSION:2.0
PRODID:icalendar-ruby
CALSCALE:GREGORIAN
BEGIN:VEVENT
DTSTAMP:20260225T070501Z
UID:event-occurrence-a07a4c84-a7fb-4d75-9315-52f0fc1c202e-event-c44adbb1-59
 8d-485b-9ae9-11c51e939bb1@termine-e
DTSTART:20260219T180000
DTEND:20260219T200000
CLASS:PUBLIC
DESCRIPTION:Den besten Büchern auf der Spur: wir stellen uns ein Mal im Mo
 nat gegenseitig die besten Bücher vor\, geben eine Leseprobe und tauschen
  sie aus! Dabei gibt es Knabbereien und Getränke!
LOCATION:Gemeindesaal Hohenbostel\, An der Kirche 1\, 30890\, Barsinghausen
SUMMARY:Lesezirkel
END:VEVENT
BEGIN:VEVENT
DTSTAMP:20260225T070501Z
UID:event-occurrence-170c0b66-48ac-4f65-a41b-0b45c8779899-event-c44adbb1-59
 8d-485b-9ae9-11c51e939bb1@termine-e
DTSTART:20260319T180000
DTEND:20260319T200000
CLASS:PUBLIC
DESCRIPTION:Den besten Büchern auf der Spur: wir stellen uns ein Mal im Mo
 nat gegenseitig die besten Bücher vor\, geben eine Leseprobe und tauschen
  sie aus! Dabei gibt es Knabbereien und Getränke!
LOCATION:Gemeindesaal Hohenbostel\, An der Kirche 1\, 30890\, Barsinghausen
SUMMARY:Lesezirkel
END:VEVENT
BEGIN:VEVENT
DTSTAMP:20260225T070501Z
UID:event-occurrence-9c360ba7-60e6-4afb-8503-e159b0fe971f-event-c44adbb1-59
 8d-485b-9ae9-11c51e939bb1@termine-e
DTSTART:20260416T180000
DTEND:20260416T200000
CLASS:PUBLIC
DESCRIPTION:Den besten Büchern auf der Spur: wir stellen uns ein Mal im Mo
 nat gegenseitig die besten Bücher vor\, geben eine Leseprobe und tauschen
  sie aus! Dabei gibt es Knabbereien und Getränke!
LOCATION:Gemeindesaal Hohenbostel\, An der Kirche 1\, 30890\, Barsinghausen
SUMMARY:Lesezirkel
END:VEVENT
BEGIN:VEVENT
DTSTAMP:20260225T070501Z
UID:event-occurrence-98f4ddee-b9d2-4e8e-aa61-51d06647bc1b-event-c44adbb1-59
 8d-485b-9ae9-11c51e939bb1@termine-e
DTSTART:20260521T180000
DTEND:20260521T200000
CLASS:PUBLIC
DESCRIPTION:Den besten Büchern auf der Spur: wir stellen uns ein Mal im Mo
 nat gegenseitig die besten Bücher vor\, geben eine Leseprobe und tauschen
  sie aus! Dabei gibt es Knabbereien und Getränke!
LOCATION:Gemeindesaal Hohenbostel\, An der Kirche 1\, 30890\, Barsinghausen
SUMMARY:Lesezirkel
END:VEVENT
BEGIN:VEVENT
DTSTAMP:20260225T070501Z
UID:event-occurrence-267106fb-322e-4922-8079-ab18683e4505-event-c44adbb1-59
 8d-485b-9ae9-11c51e939bb1@termine-e
DTSTART:20260618T180000
DTEND:20260618T200000
CLASS:PUBLIC
DESCRIPTION:Den besten Büchern auf der Spur: wir stellen uns ein Mal im Mo
 nat gegenseitig die besten Bücher vor\, geben eine Leseprobe und tauschen
  sie aus! Dabei gibt es Knabbereien und Getränke!
LOCATION:Gemeindesaal Hohenbostel\, An der Kirche 1\, 30890\, Barsinghausen
SUMMARY:Lesezirkel
END:VEVENT
BEGIN:VEVENT
DTSTAMP:20260225T070501Z
UID:event-occurrence-e235f58c-bfd4-4ed4-b903-2cd8b54818da-event-c44adbb1-59
 8d-485b-9ae9-11c51e939bb1@termine-e
DTSTART:20260716T180000
DTEND:20260716T200000
CLASS:PUBLIC
DESCRIPTION:Den besten Büchern auf der Spur: wir stellen uns ein Mal im Mo
 nat gegenseitig die besten Bücher vor\, geben eine Leseprobe und tauschen
  sie aus! Dabei gibt es Knabbereien und Getränke!
LOCATION:Gemeindesaal Hohenbostel\, An der Kirche 1\, 30890\, Barsinghausen
SUMMARY:Lesezirkel
END:VEVENT
BEGIN:VEVENT
DTSTAMP:20260225T070501Z
UID:event-occurrence-fa38a708-2dfb-4846-9f7a-90f5de9cc3a6-event-c44adbb1-59
 8d-485b-9ae9-11c51e939bb1@termine-e
DTSTART:20260820T180000
DTEND:20260820T200000
CLASS:PUBLIC
DESCRIPTION:Den besten Büchern auf der Spur: wir stellen uns ein Mal im Mo
 nat gegenseitig die besten Bücher vor\, geben eine Leseprobe und tauschen
  sie aus! Dabei gibt es Knabbereien und Getränke!
LOCATION:Gemeindesaal Hohenbostel\, An der Kirche 1\, 30890\, Barsinghausen
SUMMARY:Lesezirkel
END:VEVENT
BEGIN:VEVENT
DTSTAMP:20260225T070501Z
UID:event-occurrence-36625fe0-68fb-47b3-804e-3a71c18dda16-event-c44adbb1-59
 8d-485b-9ae9-11c51e939bb1@termine-e
DTSTART:20260917T180000
DTEND:20260917T200000
CLASS:PUBLIC
DESCRIPTION:Den besten Büchern auf der Spur: wir stellen uns ein Mal im Mo
 nat gegenseitig die besten Bücher vor\, geben eine Leseprobe und tauschen
  sie aus! Dabei gibt es Knabbereien und Getränke!
LOCATION:Gemeindesaal Hohenbostel\, An der Kirche 1\, 30890\, Barsinghausen
SUMMARY:Lesezirkel
END:VEVENT
BEGIN:VEVENT
DTSTAMP:20260225T070501Z
UID:event-occurrence-bbedaaeb-4cb6-4626-ae1b-fe943008bb66-event-c44adbb1-59
 8d-485b-9ae9-11c51e939bb1@termine-e
DTSTART:20261015T180000
DTEND:20261015T200000
CLASS:PUBLIC
DESCRIPTION:Den besten Büchern auf der Spur: wir stellen uns ein Mal im Mo
 nat gegenseitig die besten Bücher vor\, geben eine Leseprobe und tauschen
  sie aus! Dabei gibt es Knabbereien und Getränke!
LOCATION:Gemeindesaal Hohenbostel\, An der Kirche 1\, 30890\, Barsinghausen
SUMMARY:Lesezirkel
END:VEVENT
BEGIN:VEVENT
DTSTAMP:20260225T070501Z
UID:event-occurrence-06bde11c-9ea9-4b17-beaf-7550a8f47c1a-event-c44adbb1-59
 8d-485b-9ae9-11c51e939bb1@termine-e
DTSTART:20261119T180000
DTEND:20261119T200000
CLASS:PUBLIC
DESCRIPTION:Den besten Büchern auf der Spur: wir stellen uns ein Mal im Mo
 nat gegenseitig die besten Bücher vor\, geben eine Leseprobe und tauschen
  sie aus! Dabei gibt es Knabbereien und Getränke!
LOCATION:Gemeindesaal Hohenbostel\, An der Kirche 1\, 30890\, Barsinghausen
SUMMARY:Lesezirkel
END:VEVENT
END:VCALENDAR
