BEGIN:VCALENDAR
VERSION:2.0
PRODID:icalendar-ruby
CALSCALE:GREGORIAN
BEGIN:VEVENT
DTSTAMP:20260423T160148Z
UID:event-occurrence-dab25b93-a1d7-4324-b111-e6c0078b9b28-event-c4027cf3-fe
 ef-49aa-8e11-7dac987c8c56@termine-e
DTSTART:20260508T183000
DTEND:20260508T000000
CLASS:PUBLIC
DESCRIPTION:Am Freitagabend laden wir ein zur kleinen Abendandacht mit Vera
  Herrmann.
LOCATION:St. Mauritius-Kirche\, Altenmedingen
SUMMARY:Sing mit uns ins Wochenende in Altenmedingen
END:VEVENT
END:VCALENDAR
