BEGIN:VCALENDAR
VERSION:2.0
PRODID:icalendar-ruby
CALSCALE:GREGORIAN
BEGIN:VEVENT
DTSTAMP:20260206T141449Z
UID:event-occurrence-46c13a1f-58d6-4534-9a9a-8214e4fbd0fa-event-c3fa541c-3e
 d5-4c84-9a3b-7741903aada3@termine-e
DTSTART:20260315T093000
DTEND:20260315T000000
CLASS:PUBLIC
LOCATION:Waldkirche St. Lukas Bennien
SUMMARY:Vorstellungsgottesdienst der Konfirmanden
END:VEVENT
END:VCALENDAR
