BEGIN:VCALENDAR
VERSION:2.0
PRODID:icalendar-ruby
CALSCALE:GREGORIAN
BEGIN:VEVENT
DTSTAMP:20260420T103845Z
UID:event-occurrence-bc17b11f-3ee7-444b-ac0f-9dd39837a974-event-c3c1ed00-d8
 3c-454e-9ef6-f1259f14bc64@termine-e
DTSTART:20260426T113000
DTEND:20260426T000000
CLASS:PUBLIC
LOCATION:St. Katharinen\, An der Katharinenkirche 8\, 49074\, Osnabrück
SUMMARY:Taufgottesdienst\, Pastorin Andrea Kruckemeyer\, Kantor Arne Hatje
END:VEVENT
END:VCALENDAR
