BEGIN:VCALENDAR
VERSION:2.0
PRODID:icalendar-ruby
CALSCALE:GREGORIAN
BEGIN:VEVENT
DTSTAMP:20260413T065438Z
UID:event-occurrence-e5364f96-4c40-4dab-b7d2-b61aa9d25555-event-c345d07e-e2
 92-4745-911e-16946c242423@termine-e
DTSTART:20260815T090000
DTEND:20260815T000000
CLASS:PUBLIC
DESCRIPTION:Pn. FröhlichMusik: Cirkel
LOCATION:Paulus-Kirche\, Neersen 6\, 31812\, Bad Pyrmont
SUMMARY:Gottesdienst zur Einschulung
END:VEVENT
END:VCALENDAR
