BEGIN:VCALENDAR
VERSION:2.0
PRODID:icalendar-ruby
CALSCALE:GREGORIAN
BEGIN:VEVENT
DTSTAMP:20260414T075540Z
UID:event-occurrence-d55ad647-dca6-4dac-aec8-23f8493fd39a-event-c33d5f77-b0
 7d-4e8f-a279-36f4b31185e9@termine-e
DTSTART:20260427T160000
DTEND:20260427T180000
CLASS:PUBLIC
DESCRIPTION:Kinder im Alter von 6 - 12 Jahren treffen sich jeden Montage im
  Gemeindehaus der Zion-Kirche. Es geht um Spiel\, Spaß und Spannung. Wir 
 werden gemeinsam spielen\, kreativ sein\, backen\, kochen\, essen\, Film g
 ucken und vieles mehr. Lasst Euch überraschen!
LOCATION:Ev.-luth. Zionkirche\, Wurster Straße 406\, 27580\, Bremerhaven
SUMMARY:Kindergruppe
END:VEVENT
END:VCALENDAR
