BEGIN:VCALENDAR
VERSION:2.0
PRODID:icalendar-ruby
CALSCALE:GREGORIAN
BEGIN:VEVENT
DTSTAMP:20260402T074041Z
UID:event-occurrence-31625c9b-cf4a-4bb4-92eb-73655605a857-event-c33937f1-fc
 63-4a26-818e-ccb82558cce4@termine-e
DTSTART:20260415T193000
DTEND:20260415T210000
CLASS:PUBLIC
DESCRIPTION:Laut Landeskirche sind wir verpflichtet\, Gebäude zu reduziere
 n... Wollen wir das...? Wie wollen wir unsere schöne Gehrdener Margarethe
 nkirche\, das Ensemble mit altem Pfarrhaus und herrlichem Garten am Gemein
 dezentrum erhalten\, damit es uns weiterhin zur Verfügung steht? Jede Per
 son\, die Ideen hat\, kreativ mit den landeskirchlichen Vorgaben zu arbeit
 en\, UND GLEICHZEITIG die Gebäude für uns alle in Gehrden zu erhalten\, 
 ist herzlich willkommen ! Die Herausforderungen sind groß und wir brauche
 n d...
LOCATION:Gemeindezentrum der Margarethengemeinde\, Kirchstraße 4b\, 30989\
 , Gehrden
SUMMARY:Wer verkauft denn schon die Kirche?? ... in Gehrden
END:VEVENT
END:VCALENDAR
